BEGIN:VCALENDAR
VERSION:2.0
PRODID:-//LAV - ECPv6.15.11//NONSGML v1.0//EN
CALSCALE:GREGORIAN
METHOD:PUBLISH
X-WR-CALNAME:LAV
X-ORIGINAL-URL:https://lisboaaovivo.com
X-WR-CALDESC:Eventos para LAV
REFRESH-INTERVAL;VALUE=DURATION:PT1H
X-Robots-Tag:noindex
X-PUBLISHED-TTL:PT1H
BEGIN:VTIMEZONE
TZID:UTC
BEGIN:STANDARD
TZOFFSETFROM:+0000
TZOFFSETTO:+0000
TZNAME:UTC
DTSTART:20250101T000000
END:STANDARD
END:VTIMEZONE
BEGIN:VEVENT
DTSTART;TZID=UTC:20261111T200000
DTEND;TZID=UTC:20261111T233000
DTSTAMP:20260425T231744
CREATED:20260305T152931Z
LAST-MODIFIED:20260324T151546Z
UID:5021-1794427200-1794439800@lisboaaovivo.com
SUMMARY:ARLO PARK - DESIRE TOUR
DESCRIPTION:A artista Arlo Parks\, nomeada duas vezes para os Grammy e vencedora do Mercury Prize e de um BRIT Award\, anunciou uma digressão mundial em nome próprio\, que inclui um concerto na O2 Brixton Academy\, em Londres\, bem como uma atuação especial de apoio com David Byrne na Irlanda este mês de junho. As datas surgem no âmbito do novo álbum de Arlo\, “Ambiguous Desire”\, com lançamento marcado para 3 de abril. \n\n\nArlo Parks irá também atuar numa série de concertos intimistas em lojas de discos no Reino Unido\, já esgotados\, para celebrar o lançamento do álbum\, oferecendo aos fãs uma rara oportunidade de assistir a uma atuação ao vivo num ambiente mais próximo. \nABOUT ARLO PARKS \nNascida em Londres\, Arlo Parks venceu o Mercury Prize com o seu álbum de estreia de 2021\, Collapsed in Sunbeams\, ganhou o prémio de Artista Revelação nos Brit Awards de 2021 e recebeu duas nomeações para os Grammy Awards e para os Ivor Novello Awards. Foi também apelidada de “a voz da sua geração”. O álbum seguinte\, My Soft Machine\, contou com participações de artistas como Phoebe Bridgers e levou-a a continuar a digressão por todo o mundo. \nEm 2025\, tornou-se a mais jovem de sempre a ser nomeada embaixadora da UNICEF\, enquanto prossegue o seu trabalho humanitário. Já 2026 marca o lançamento do seu muito aguardado terceiro álbum\, Ambiguous Desire. Referenciando desde o hedonismo queer do Paradise Garage\, em Nova Iorque\, aos ritmos britânicos nocturnos e melancólicos de The Streets e Burial\, passando pela catarse synth cintilante de LCD Soundsystem e pelos grooves house enraizados de Theo Parrish\, Ambiguous Desire mostra Parks no seu momento mais confiante e experimental. Banda sonora para uma expressão pessoal sem filtros\, é uma nova obra cheia de vida de uma das vozes mais irreprimíveis da música. \n\n\n\n\n\n  \n \n  \n 
URL:https://lisboaaovivo.com/evento/arlo-park-desire-tour/
LOCATION:LAV – Sala 1\, Av. Marechal Gomes da Costa\, 29B1\, Lisbon\, Lisboa\, 1800-255\, Portugal
ATTACH;FMTTYPE=image/jpeg:https://lisboaaovivo.com/wp-content/uploads/2026/03/ARLO_PARKS_LAV_755x480-1.jpg
END:VEVENT
BEGIN:VEVENT
DTSTART;TZID=UTC:20261115T210000
DTEND;TZID=UTC:20261115T233000
DTSTAMP:20260425T231744
CREATED:20260331T121243Z
LAST-MODIFIED:20260331T212337Z
UID:5075-1794776400-1794785400@lisboaaovivo.com
SUMMARY:THE TWILIGHT SAD
DESCRIPTION:Symbiose Apresenta: \nTHE TWILIGHT SAD \nBanda regressa a Portugal para dois concertos em Novembro\n\nPorto – 14 de novembro – Hard Club\nLisboa – 15 de novembro – LAV\n \nOs escoceses The Twilight Sad\, uma das bandas mais intensas e emocionais do pós‑punk moderno\, regressam a Portugal para dois concertos muito aguardados\, em novembro\, para apresentar o novo disco que saiu na sexta-feira\, “IT’S THE LONG GOODBYE”: dia 14 no Hard Club (Porto) e dia 15 no LAV – Lisboa ao Vivo. \nDescritos por Robert Smith\, dos The Cure\, como uma banda que “num mundo melhor tocaria para muito mais pessoas”\, os The Twilight Sad conquistaram um público devoto ao longo da última década pela força catártica das suas atuações e pela honestidade desarmante das suas canções. \nOriginários de Kilsyth\, Escócia\, o núcleo criativo formado por James Graham (voz) e Andy MacFarlane (guitarra e produção) construiu uma discografia singular\, cinco álbuns de estúdio\, que vão do lirismo melancólico do aclamado Fourteen Autumns and Fifteen Winters (2007) ao clímax emocional de IT WON/T BE LIKE THIS ALL THE TIME (2019). Este último\, editado pela Rock Action Records\, selo dos Mogwai\, consolidou o grupo como uma das mais expressivas formações britânicas da atualidade\, misturando guitarras densas\, sintetizadores hipnóticos e uma carga emocional rara. \nOs The Twilight Sad regressam agora a Portugal para dois concertos imperdíveis\, revisitando temas de toda a carreira e prometendo mais uma intensa celebração da melancolia que une banda e fãs.. Os bilhetes para este espectáculo já estão à venda em symbiose.pt pelo preço único de 30€. \n\n\n\n\n\n\n\n\n\n\n\n\n\n\n\n\n\n\n\n\n  \n \n 
URL:https://lisboaaovivo.com/evento/the-twilight-sad/
LOCATION:LAV – Sala 1\, Av. Marechal Gomes da Costa\, 29B1\, Lisbon\, Lisboa\, 1800-255\, Portugal
CATEGORIES:Concertos
ATTACH;FMTTYPE=image/jpeg:https://lisboaaovivo.com/wp-content/uploads/2026/03/cartaz150550_grande.jpg
END:VEVENT
BEGIN:VEVENT
DTSTART;TZID=UTC:20261120T210000
DTEND;TZID=UTC:20261120T230000
DTSTAMP:20260425T231744
CREATED:20251203T122300Z
LAST-MODIFIED:20251203T122300Z
UID:4795-1795208400-1795215600@lisboaaovivo.com
SUMMARY:LEBANON HANOVER
DESCRIPTION:Depois de em 2023 terem esgotado dois concertos em Lisboa e Porto\, os Lebanon Hanover regressam a Portugal em 2026 para apresentar ao vivo a sua nova digressão\, inspirada no mais recente álbum “Asylum Lullabies”\, editado este ano. A dupla de culto do dark wave europeu sobe ao palco do Hard Club (Porto) a 20 de Novembro e do LAV – Lisboa Ao Vivo (Lisboa) a 21 de Novembro de 2026. \nConsiderados uma das referências mais marcantes do pós-punk contemporâneo\, Lebanon Hanover são descritos como “uma resposta gelada a um mundo alienado\, vinda de dois corações quentes”. Larissa Iceglass e William Maybelline assumem-se como verdadeiros românticos da era moderna: admiradores de William Wordsworth\, fascinados pela estética art nouveau\, atentos à beleza costeira britânica e às suas florestas nocturnas\, mas igualmente inspirados pelo urbanismo sombrio de Berlim. \nCom “Asylum Lullabies”\, o duo aprofunda o seu universo característico minimalista\, melancólico e intensamente emocional\, explorando novas texturas e abordagens sonoras que consolidam a sua assinatura artística única. \nA intensidade poética e a estética noir dos Lebanon Hanover prometem duas noites imperdíveis\, carregadas de atmosferas densas\, ritmos hipnóticos e a autenticidade que lhes valeu uma legião de seguidores por toda a Europa. Os bilhetes para estes espectáculos já estão à venda em symbiose.pt e locais habituais pelo valor único de 27€. \nPortas: 20h00 \nInício: 21h00 \n 
URL:https://lisboaaovivo.com/evento/lebanon-hanover/
LOCATION:LAV
ATTACH;FMTTYPE=image/jpeg:https://lisboaaovivo.com/wp-content/uploads/2025/12/LH-26-755-470.jpg
END:VEVENT
BEGIN:VEVENT
DTSTART;TZID=UTC:20261127T213000
DTEND;TZID=UTC:20261127T233000
DTSTAMP:20260425T231744
CREATED:20260330T124304Z
LAST-MODIFIED:20260331T140810Z
UID:5070-1795815000-1795822200@lisboaaovivo.com
SUMMARY:ZOUK MACHINE - 40 ANOS
DESCRIPTION:Os 40 anos de Zouk Machine chegam a Lisboa para uma noite especial e cheia de nostalgia\, com Christiane Obydol\, voz original e figura histórica do grupo\, ao vivo no Lisboa Ao Vivo na sexta-feira\, 27 de novembro. Fundado na década de 80\, Zouk Machine marcou gerações com sucessos incontornáveis como Maldon\, Sove Lanmou\, Pisime Zouke e muitos outros hinos que levaram o zouk e a música caribenha para todo o mundo. Com a presença carismática de Christiane Obydol\, esta digressão celebra quatro décadas de música\, dança e alegria\, numa viagem pelos maiores clássicos que fizeram história nas pistas de dança. Um concerto festivo\, cheio de ritmo e boas vibrações\, para cantar\, dançar e celebrar 40 anos de um dos grupos mais icónicos da música das Antilhas. 📍 Lisboa Ao Vivo\, Lisboa 📅 Sexta-feira\, 27 de novembro 🎶 40 anos de Zouk Machine com Christiane Obydol – Tour comemorativa
URL:https://lisboaaovivo.com/evento/zouk-machine-40-anos/
LOCATION:LAV – Sala 1\, Av. Marechal Gomes da Costa\, 29B1\, Lisbon\, Lisboa\, 1800-255\, Portugal
CATEGORIES:Concertos
ATTACH;FMTTYPE=image/png:https://lisboaaovivo.com/wp-content/uploads/2026/03/Captura-de-ecra-2026-03-30-134212.png
END:VEVENT
END:VCALENDAR