BEGIN:VCALENDAR
VERSION:2.0
PRODID:-//LAV - ECPv6.15.11//NONSGML v1.0//EN
CALSCALE:GREGORIAN
METHOD:PUBLISH
X-ORIGINAL-URL:https://lisboaaovivo.com
X-WR-CALDESC:Eventos para LAV
REFRESH-INTERVAL;VALUE=DURATION:PT1H
X-Robots-Tag:noindex
X-PUBLISHED-TTL:PT1H
BEGIN:VTIMEZONE
TZID:UTC
BEGIN:STANDARD
TZOFFSETFROM:+0000
TZOFFSETTO:+0000
TZNAME:UTC
DTSTART:20250101T000000
END:STANDARD
END:VTIMEZONE
BEGIN:VEVENT
DTSTART;TZID=UTC:20260904T193000
DTEND;TZID=UTC:20260904T233000
DTSTAMP:20260425T203521
CREATED:20251217T185727Z
LAST-MODIFIED:20260331T144435Z
UID:4852-1788550200-1788564600@lisboaaovivo.com
SUMMARY:SINA BATHAIE
DESCRIPTION:Sina Bathaie is a multi-instrumentalist\, producer and improviser with more than 200 million streams on digital platforms. Originally from Iran\, he is known for his unique style of playing traditional instruments such as the oud and ukulele and for introducing Eastern touches to his electronic music. Sina has been featured at festivals\, including Burning Man\, Luminato\, Folk Music Ontario\, CINARS\, and Mundial Montréal. \nHis single “Breath of Life\,” has amassed 20 million streams and achieved charting success in countries including Azerbaijan\, Georgia\, and Turkey. His single “Seven Ponds” became trending with millions of stream upon release in early 2024. He has been signed with record labels such as Hoomidaas\, Windcatcher Records\, Tibetania and Camel VIP and has been performing internationally. \nSina began learning the santur at the age of seven from his father\, Javad Bathaie\, and studied Persian music with the oud
URL:https://lisboaaovivo.com/evento/sina-bathaie/
LOCATION:LAV – Sala 2\, Av. Marechal Gomes da Costa\, 29B1\, Lisbon\, Lisboa\, 1800-255\, Portugal
CATEGORIES:Concertos
ATTACH;FMTTYPE=image/webp:https://lisboaaovivo.com/wp-content/uploads/2025/12/23558355.webp
END:VEVENT
BEGIN:VEVENT
DTSTART;TZID=UTC:20260909T210000
DTEND;TZID=UTC:20260909T233000
DTSTAMP:20260425T203521
CREATED:20260305T162847Z
LAST-MODIFIED:20260305T162847Z
UID:5024-1788987600-1788996600@lisboaaovivo.com
SUMMARY:THE LIVING TOMBSTONE - Multiplayer Tour
DESCRIPTION:A dupla eletrónica The Living Tombstone acaba de confirmar a sua passagem por Lisboa no próximo dia 9 de setembro\, com um concerto no LAV – Lisboa ao Vivo\, integrado na digressão mundial The Multiplayer Tour 2026.\nFormados por Yoav Landau e Sam Haft\, e apelidados pela NME como “a maior banda de gaming da internet”\, The Living Tombstone conquistaram uma posição singular no panorama digital global. Muito além da música\, tornaram-se uma referência na cultura gaming e geek\, construindo um universo artístico próprio onde narrativa\, personagens e som coexistem. \nEm palco\, essa dimensão conceptual ganha vida: Yoav assume a identidade de zero_one\, enquanto Sam encarna Rust\, personagens centrais no mundo ficcional que a dupla desenvolve há mais de uma década. “Somos dois rapazes que escrevem a história para os The Living Tombstone\, que vivem no seu próprio mundo e com personagens que as pessoas seguem”\, explicam. \nCom mais de 9 milhões de subscritores no YouTube e mais de 70 mil milhões de streams acumulados nas plataformas digitais\, o projeto começou a ganhar tração após um ambicioso trabalho desenvolvido para a gigante japonesa Avex Group\, que marcou o arranque de uma ascensão meteórica.\nEm 2025\, lançaram o segundo álbum de estúdio\, Rust\, um registo visceral que cruza a energia da ficção científica distópica dos anos 80 com temas como justiça social\, resistência e a erosão de sistemas autoritários. O disco contou com a colaboração do produtor CJ Baran\, um dos nomes mais relevantes da música alternativa contemporânea. No mesmo ano\, editaram ainda FNAFdom (Live)\, projeto que reúne versões ao vivo — em formato full band — de temas inspirados no universo de Five Nights at Freddy’s. \nA ligação da dupla ao universo da animação e do gaming estende-se também à colaboração oficial com a Glitch Productions para a série Murder Drones\, reforçando a sua presença transversal entre música\, internet e entretenimento digital. \nApós 15 anos de carreira\, e depois de uma digressão mundial com datas esgotadas em quatro continentes\, The Living Tombstone preparam agora um novo capítulo com o próximo álbum\, Armstrong\, além de novas colaborações e projetos no universo dos videojogos.\nAgora\, é a vez de visitarem Lisboa\, onde chegam a 9 de setembro com um espetáculo cheio de energia no LAV – Lisboa ao Vivo. \n  \n 
URL:https://lisboaaovivo.com/evento/the-living-tombstone-multiplayer-tour/
LOCATION:LAV
ATTACH;FMTTYPE=image/jpeg:https://lisboaaovivo.com/wp-content/uploads/2026/03/cartaz.jpg
END:VEVENT
BEGIN:VEVENT
DTSTART;TZID=UTC:20260918T213000
DTEND;TZID=UTC:20260918T233000
DTSTAMP:20260425T203521
CREATED:20251211T173013Z
LAST-MODIFIED:20251210T233648Z
UID:4801-1789767000-1789774200@lisboaaovivo.com
SUMMARY:GENTLEMAN
DESCRIPTION:Gentleman regressa a Portugal com Gentleman – Live 2026\, um espetáculo que celebra a força transformadora do reggae contemporâneo e a energia vibrante do seu último álbum “Mad World”. Depois de uma viagem criativa que o levou a reencontrar-se com as raízes espirituais e globais da sua música\, o artista alemão apresenta um concerto que une mensagens de esperança\, consciência e autenticidade\, marcas indissociáveis do seu percurso. \nEm palco\, Gentleman transporta o público para um universo onde o reggae se renova com sonoridades modernas\, arranjos poderosos e uma presença emocional que liga artista e público. \n“Mad World” e os sucessos intemporais como “Superior”\, “Dem Gone”\, “Intoxication”\, “Send a Prayer”\, “Runaway” (feat. Ky-Mani Marley)\, “To the Top” (feat. Christopher Martin) e “You Remember” inspiram um espetáculo intenso e luminoso\, que reflete uma visão do mundo complexa\, mas sempre iluminada pela crença no bem\, na simplicidade e na possibilidade de transformação. \nUma noite especial\, para celebrar uma voz única que continua a redefinir o reggae para uma nova era. \n  \nUma experiência imperdível no LAV – Lisboa Ao Vivo\, a 18 de setembro. \nPortas: 20h30 \nInício: 21h30 \nPlateia em Pé (Lote 1) – 30\,00€ / Balcão (Lote 1) – 40\,00€ \n 
URL:https://lisboaaovivo.com/evento/gentleman/
LOCATION:LAV
ATTACH;FMTTYPE=image/jpeg:https://lisboaaovivo.com/wp-content/uploads/2025/12/755x470.jpg
END:VEVENT
BEGIN:VEVENT
DTSTART;TZID=UTC:20260920T203000
DTEND;TZID=UTC:20260920T233000
DTSTAMP:20260425T203521
CREATED:20251219T132243Z
LAST-MODIFIED:20260331T144521Z
UID:4864-1789936200-1789947000@lisboaaovivo.com
SUMMARY:MAC DeMARCO
DESCRIPTION:🌟 Mac DeMarco actuará dia 20 de setembro em Lisboa. O músico canadiano apresentará o seu encantadoramente minimalista novo disco\, Guitar\, no LAV  \n💵Preço especial para clientes Revolut\nGanha 7% de desconto no teu bilhete\, pagando com Revolut Pay \nDe que vais desfrutar\n🎤 Da apresentação\, ao vivo\, de Guitar\, o seu novo álbum\n👉 Para fãs de Jonathan Richman ou Alex G\n🎵 Um concerto com o selo de garantia Primavera Sound \nInformação\n📅 Data: 20 de setembro\n🕐 Hora:\n– As portas abrem às 20:30\n– O concerto começa às 21:00\nOs horários podem estar sujeitos a alterações. Caso aconteçam\, os compradores serão informados\n📍 Sala: LAV\n♿ Acessibilidade: acessível a pessoas com mobilidade reduzida.\n🧒 Idade: A partir dos 6 anos
URL:https://lisboaaovivo.com/evento/mac-demarco/
LOCATION:LAV – Sala 1\, Av. Marechal Gomes da Costa\, 29B1\, Lisbon\, Lisboa\, 1800-255\, Portugal
CATEGORIES:Concertos
ATTACH;FMTTYPE=image/png:https://lisboaaovivo.com/wp-content/uploads/2025/12/Captura-de-ecra-2025-12-19-132133.png
END:VEVENT
BEGIN:VEVENT
DTSTART;TZID=UTC:20260923T210000
DTEND;TZID=UTC:20260923T233000
DTSTAMP:20260425T203521
CREATED:20260309T105056Z
LAST-MODIFIED:20260309T105056Z
UID:5027-1790197200-1790206200@lisboaaovivo.com
SUMMARY:TY SEGALL
DESCRIPTION:🌟 Ty Segall\, nome inconfundível do garage rock moderno\, está de volta a Portugal para um concerto inesquecível em Lisboa. O artista norte-americano atua a 23 de setembro na Sala 1 do LAV – Lisboa Ao Vivo. \nO que vais encontrar\n🎤 Uma performance marcada pelo garage rock e sons psicadélicos\n🎛️ Um concerto cheio de energia e ritmo que te vai levar ao limite\n🎵 Uma noite inesquecível no LAV \nInformação\n📅 Data: 23 de setembro de 2026\n🕐 Hora:\n– As portas abrem às 20h00\n– O concerto começa às 21h00 \n \n 
URL:https://lisboaaovivo.com/evento/ty-segall/
LOCATION:LAV – Sala 1\, Av. Marechal Gomes da Costa\, 29B1\, Lisbon\, Lisboa\, 1800-255\, Portugal
ATTACH;FMTTYPE=image/jpeg:https://lisboaaovivo.com/wp-content/uploads/2026/03/agenda_LT-2026-03-03T111028.920.jpg
END:VEVENT
BEGIN:VEVENT
DTSTART;TZID=UTC:20260925T180000
DTEND;TZID=UTC:20260926T233000
DTSTAMP:20260425T203521
CREATED:20260330T113653Z
LAST-MODIFIED:20260331T140733Z
UID:5045-1790359200-1790465400@lisboaaovivo.com
SUMMARY:UNDER THE DOOM FESTIVAL
DESCRIPTION:UNDER THE DOOM FESTIVAL➡️ 25\, 26 Setembro | LAV – Lisboa Ao VivoPrimeiras Confirmações para a 10ª Edição do Under the Doom:– DRACONIAN 🇸🇪– EVOKEN 🇺🇸– SCHAMMASCH 🇨🇭– LIV KRISTINE 🇳🇴– MARCHE FUNEBRE 🇧🇪– ATONE 🇵🇹– ANZV 🇵🇹Lisboa volta a ser ponto de encontro para os territórios mais densos e atmosféricos da música pesada com o regresso do festival UNDER THE DOOM ao LAV – Lisboa ao Vivo nos dias 25 e 26 de Setembro. A 10ª edição do evento começa agora a ganhar forma concreta com o anúncio da primeira ronda de confirmações em cartaz\, que inclui um headliner\, dois co-headliners e ainda um conjunto de nomes que reforçam a identidade singular de um festival que já se tornou ponto de paragem obrigatória para todos os fãs de música pintada em tons de cinzento bem escuro. Uma segunda vaga de confirmações será revelada em Abril\, completando assim o alinhamento.EARLY BIRD – PASSE DE DOIS DIAS COM 20% DE DESCONTOVENDA LIMITADA ATÉ DIA 2 DE ABRILCOMPRAR AQUI: ➡️ https://shorturl.at/V9WnTComo cabeça de cartaz do dia 26 de Setembro surgem os suecos Draconian\, num concerto que assinala o regresso da vocalista Lisa Johansson à banda e a apresentação de um novo álbum de estúdio. Referência incontornável do doom/death metal melódico europeu\, o coletivo escandinavo prepara-se para apresentar um espetáculo marcado por esse há muito aguardado reencontro e por um repertório que atravessa diferentes fases da sua discografia\, agora renovada por novo material.Em estreia absoluta em Portugal\, os norte-americanos Evoken (Official) vão protagonizar aquele que será\, indubitavelmente\, um dos momentos mais aguardados desta edição do UNDER THE DOOM. Alvo de enorme culto no hermético universo do funeral doom\, os músicos trazem pela primeira vez ao público nacional a sua abordagem austera e profundamente atmosférica\, construída ao longo de décadas de consistência artística. Também com estatuto digno de destaque\, os Schammasch apresentam um concerto exclusivo dedicado ao 10º aniversário de «Triangle»\, com o álbum a ser interpretado na íntegra e complementado por outros temas marcantes da carreira da banda suíça\, num espetáculo pensado especificamente para esta celebração.A primeira vaga de confirmações integra também a lendária Liv Kristine que regressa aos palcos acompanhada por uma nova banda e com novo álbum a apresentar\, reforçando uma vez mais o seu percurso singular dentro da música gótica e atmosférica. No plano nacional\, os Atone – Doom Metal e ANZV assumem particular destaque: os primeiros\, formados por ex-elementos dos DESIRE\, dos VS777 e de outros projetos de relevo no underground luso\, assinalam neste festival a sua estreia absoluta e a única atuação ao vivo de 2026\, enquanto os segundos apresentam novo álbum e protagonizam também o seu único concerto em Lisboa nesse ano. Para terminar\, uma década após a anterior passagem pelo evento\, os belgas MARCHE FUNEBRE regressam ao UNDER THE DOOM com novo LP na bagagem\, aprofundando a relação construída com o público do evento.Os concertos terão início às 19:00 na sexta-feira\, dia 25 de Setembro\,e às 18:00 no Sábado\, 26 de Setembro\, no LAV – Lisboa Ao Vivo.No âmbito deste primeiro anúncio\, ficam disponíveis os passes de dois dias com 20% de desconto\, no valor de 80€\, exclusivamente através da Unkind.pt\, entre 4 de Março e 2 de Abril.A segunda parte do cartaz será anunciada em Abril\, completando assim a programação da edição de 2026 do UNDER THE DOOM.Nesse período\, serão igualmente disponibilizados bilhetes e passes diários já ao preço normal.
URL:https://lisboaaovivo.com/evento/under-the-doom-festival/
LOCATION:LAV – Sala 2\, Av. Marechal Gomes da Costa\, 29B1\, Lisbon\, Lisboa\, 1800-255\, Portugal
CATEGORIES:Concertos
ATTACH;FMTTYPE=image/png:https://lisboaaovivo.com/wp-content/uploads/2026/03/Captura-de-ecra-2026-03-31-150603.png
END:VEVENT
BEGIN:VEVENT
DTSTART;TZID=UTC:20260927T200000
DTEND;TZID=UTC:20260927T233000
DTSTAMP:20260425T203521
CREATED:20260330T122710Z
LAST-MODIFIED:20260331T141956Z
UID:5067-1790539200-1790551800@lisboaaovivo.com
SUMMARY:BETO GUEDES
DESCRIPTION:Beto Guedes Pela Primeira Vez em Lisboa\, Portugal! \n  \n\n  \nBeto Guedes celebra 50 anos de carreira com dois shows inéditos em Portugal! Os fãs de Portugal do cantor\, compositor e multi-instrumentista Beto Guedes — parceiro de Lô Borges e Milton Nascimento no lendário Clube da Esquina — serão os primeiros do continente europeu a ter a oportunidade de assisti-lo ao vivo\, apresentando o espetáculo comemorativo de seus 50 anos de carreira. \nNo repertório\, sucessos atemporais como “Sol de Primavera”\, “O Sal da Terra”\, “Amor de Índio”\, “Paisagem da Janela”\, “Nada Será Como Antes” e “Lumiar” entre tantos outros que marcaram gerações. Ao lado de Milton\, Lô e de outros expoentes mineiros como Márcio Borges\, Ronaldo Bastos\, Fernando Brant\, Wagner Tiso\, Tavinho Moura\, Toninho Horta e Flávio Venturini\, Beto ajudou a moldar uma estética singular na música brasileira\, fundindo a inventividade da Bossa Nova com\nelementos do jazz\, do rock inglês (especialmente dos Beatles)\, da música folclórica\, regional\, erudita e hispânica. \nA carreira de Beto Guedes é marcada por sofisticação técnica\, sensibilidade artística e pela habilidade de transitar entre estilos\, unindo MPB\, rock e raízes regionais. Sua poesia musical aborda temas universais — amor\, natureza\, espiritualidade — e continua a emocionar\ndiferentes gerações. \n  \n\n  \nUma experiência única para celebrar a música brasileira com um dos seus maiores nomes.\nUma produção JOYRIDE\nSiga-nos no Instagram:\n@JOYRIDE_LIVE\nhttps://www.instagram.com/joyride_live\nClassificação etária do evento: Menores de 6 anos acompanhados pelos pais \n 
URL:https://lisboaaovivo.com/evento/beto-guedes/
LOCATION:LAV – Sala 1\, Av. Marechal Gomes da Costa\, 29B1\, Lisbon\, Lisboa\, 1800-255\, Portugal
CATEGORIES:Concertos
ATTACH;FMTTYPE=image/jpeg:https://lisboaaovivo.com/wp-content/uploads/2026/03/059e4ff0e7126dbd8cdbd326b350d0fd.jpg
END:VEVENT
BEGIN:VEVENT
DTSTART;TZID=UTC:20260930T203000
DTEND;TZID=UTC:20260930T233000
DTSTAMP:20260425T203521
CREATED:20251219T132813Z
LAST-MODIFIED:20260114T174926Z
UID:4867-1790800200-1790811000@lisboaaovivo.com
SUMMARY:TRANSVISION VAMP | LISBOA
DESCRIPTION:Os Transvision Vamp estão de volta aos palcos mundiais e Portugal faz parte do itinerário da banda britânica.\nFormados em 1986\, a banda liderada pela carismática Wendy James irá actuar em Lisboa e Porto.\nOs concertos iram seguramente revelar a irreverência da banda que cruza e incorpora na perfeição o Pop\, o Punk e o Rock alternativo. E os temas icónicos da banda tais como Revolution Baby\, I want your love e Baby\, If looks could kill e I don´t care não irão seguramente faltar no alinhamento dos concertos no LAV em Lisboa e no Hard Club do Porto.\nPrepare-se para duas noites memoráveis!
URL:https://lisboaaovivo.com/evento/transvision-vamp-lisboa/
LOCATION:LAV – Sala 1\, Av. Marechal Gomes da Costa\, 29B1\, Lisbon\, Lisboa\, 1800-255\, Portugal
CATEGORIES:Concertos
ATTACH;FMTTYPE=image/jpeg:https://lisboaaovivo.com/wp-content/uploads/2025/12/cartaz-6.jpg
END:VEVENT
END:VCALENDAR