BEGIN:VCALENDAR
VERSION:2.0
PRODID:-//LAV - ECPv6.15.11//NONSGML v1.0//EN
CALSCALE:GREGORIAN
METHOD:PUBLISH
X-WR-CALNAME:LAV
X-ORIGINAL-URL:https://lisboaaovivo.com
X-WR-CALDESC:Eventos para LAV
REFRESH-INTERVAL;VALUE=DURATION:PT1H
X-Robots-Tag:noindex
X-PUBLISHED-TTL:PT1H
BEGIN:VTIMEZONE
TZID:UTC
BEGIN:STANDARD
TZOFFSETFROM:+0000
TZOFFSETTO:+0000
TZNAME:UTC
DTSTART:20250101T000000
END:STANDARD
END:VTIMEZONE
BEGIN:VEVENT
DTSTART;TZID=UTC:20260801T210000
DTEND;TZID=UTC:20260801T233000
DTSTAMP:20260425T190307
CREATED:20260220T150819Z
LAST-MODIFIED:20260220T150819Z
UID:4985-1785618000-1785627000@lisboaaovivo.com
SUMMARY:RATOS DE PORÃO
DESCRIPTION:OS RATOS DE PORÃO REGRESSAM A PORTUGAL COM «NECROPOLÍTICA» E UM ALINHAMENTO REPLETO DE CLÁSSICOS! \nA histórica banda paulista volta aos palcos nacionais acompanhada pelos SIMBIOSE\, numa celebração de mais de quatro décadas de hardcore\, thrash e intervenção política. \nNo próximo dia 1 de Agosto\, os RATOS DE PORÃO regressam a Portugal para um concerto no LAV – Lisboa Ao Vivo que se antecipa como um dos momentos centrais do Verão para os seguidores de punk\, hardcore\, thrash e crossover. A noite promete reunir diferentes gerações em torno de um dos nomes mais influentes da música extrema sul-americana. A presença dos portugueses SIMBIOSE na primeira parte do concerto reforça o carácter especial do evento\, unindo dois nomes que\, em geografias distintas\, partilham uma trajectória marcada por coerência estética\, combatividade e compromisso com o underground. \nOs RATOS DE PORÃO trazem na bagagem o seu mais recente álbum de estúdio\, juntamente com todos os seus clássicos incontornáveis. Editado a 13 de Maio de 2023 via Shinigami Records\, «Necropolítica» sucedeu a «Século Sinistro»\, de 2014\, e quebrou uma pausa de quase uma década sem temas originais. Segundo o comunicado de imprensa que acompanhou o lançamento\, “o álbum traz várias críticas sociais que se centram especialmente no termo cunhado em 2003 pelo filósofo e teórico político camaronês Achille Mbembe”\, conceito que dá título ao LP e que orienta a sua reflexão temática. Ao vivo\, como já foi provado por cá\, os novos temas dialogam naturalmente com o repertório histórico da banda\, compondo um alinhamento que percorre mais de quarenta anos de intervenção sonora. \nO concerto dos RATOS DE PORÃO no LAV – Lisboa Ao Vivo realiza-se no dia 1 de Agosto de 2026\, com abertura de portas às 20:00 e início do espectáculo previsto para as 21:00\, numa noite que reafirma a vitalidade de uma banda que continua a assumir a música como espaço de confronto\, reflexão e resistência. \nFormados em São Paulo em 1981\, ainda num Brasil que vivia os últimos anos da ditadura militar\, os RATOS DE PORÃO emergiram num contexto de grande tensão social e da efervescência cultural que moldou de forma decisiva a sua identidade. Desde os primeiros ensaios\, Jão e companhia destacaram-se pela crueza sonora\, pela rudeza e por um discurso frontal e crítico\, afirmando-se rapidamente como uma das vozes mais contundentes do punk hardcore brasileiro. Ao longo dos anos\, foram incorporando a agressividade do thrash à urgência das origens\, criando um som bem próprio\, que lhes permitiu ultrapassar fronteiras e conquistar reconhecimento internacional.
URL:https://lisboaaovivo.com/evento/ratos-de-porao/
LOCATION:LAV – Sala 2\, Av. Marechal Gomes da Costa\, 29B1\, Lisbon\, Lisboa\, 1800-255\, Portugal
ATTACH;FMTTYPE=image/jpeg:https://lisboaaovivo.com/wp-content/uploads/2026/02/E15920_63_PT.jpg
END:VEVENT
END:VCALENDAR