BEGIN:VCALENDAR
VERSION:2.0
PRODID:-//LAV - ECPv6.15.11//NONSGML v1.0//EN
CALSCALE:GREGORIAN
METHOD:PUBLISH
X-WR-CALNAME:LAV
X-ORIGINAL-URL:https://lisboaaovivo.com
X-WR-CALDESC:Eventos para LAV
REFRESH-INTERVAL;VALUE=DURATION:PT1H
X-Robots-Tag:noindex
X-PUBLISHED-TTL:PT1H
BEGIN:VTIMEZONE
TZID:UTC
BEGIN:STANDARD
TZOFFSETFROM:+0000
TZOFFSETTO:+0000
TZNAME:UTC
DTSTART:20250101T000000
END:STANDARD
END:VTIMEZONE
BEGIN:VEVENT
DTSTART;TZID=UTC:20260702T210000
DTEND;TZID=UTC:20260702T233000
DTSTAMP:20260425T174748
CREATED:20260226T221908Z
LAST-MODIFIED:20260226T221908Z
UID:5014-1783026000-1783035000@lisboaaovivo.com
SUMMARY:BBNO$
DESCRIPTION:BBNO$ estreia-se finalmente em Portugal com um concerto no LAV – Lisboa Ao Vivo\, no dia 2 de julho.\nConhecido pelo fenómeno viral Lalala\, lançado em 2019 em colaboração com Y2K — um dos maiores sucessos alguma vez impulsionados pelo TikTok —\, BBNO$ construiu uma carreira sólida assente em batidas contagiantes\, instrumentais viciantes e uma identidade irreverente que o distingue no panorama do hip-hop internacional. \nO sucesso global\, tão rápido quanto consistente\, levou-o a atuar em palcos de dimensão mundial como o Coachella\, onde subiu ao palco como convidado especial de Juno. \nApós o impacto dos singles lil freak\, it boy e two\, que juntos ultrapassaram 140 milhões de streams e impulsionaram um crescimento superior a 2\,5 milhões de seguidores nas redes sociais em apenas oito meses\, o artista lançou\, em 2025\, o seu nono álbum de estúdio\, bbno$\, que agora apresenta ao vivo em Lisboa. \nEsta é uma estreia em território nacional há muito aguardada e que promete ficar na memória de quem estiver presente a 2 de julho no LAV – Lisboa Ao Vivo.
URL:https://lisboaaovivo.com/evento/bbno/
LOCATION:LAV
ATTACH;FMTTYPE=image/jpeg:https://lisboaaovivo.com/wp-content/uploads/2026/02/cartaz-4.jpg
END:VEVENT
BEGIN:VEVENT
DTSTART;TZID=UTC:20260705T183000
DTEND;TZID=UTC:20260705T233000
DTSTAMP:20260425T174748
CREATED:20260414T103439Z
LAST-MODIFIED:20260414T103532Z
UID:5140-1783276200-1783294200@lisboaaovivo.com
SUMMARY:DECEMBER 10
DESCRIPTION:ON SALE / À VENDA\n17/04/2026 09H00
URL:https://lisboaaovivo.com/evento/5140/
LOCATION:LAV
CATEGORIES:Concertos
ATTACH;FMTTYPE=image/jpeg:https://lisboaaovivo.com/wp-content/uploads/2026/04/IMG_4812.jpeg
END:VEVENT
BEGIN:VEVENT
DTSTART;TZID=UTC:20260717T210000
DTEND;TZID=UTC:20260717T233000
DTSTAMP:20260425T174748
CREATED:20260422T135642Z
LAST-MODIFIED:20260422T135642Z
UID:5145-1784322000-1784331000@lisboaaovivo.com
SUMMARY:ALAIN PÉREZ Y LA ORQUESTA
DESCRIPTION:Um dos nomes mais inventivos da música cubana contemporânea\, Alain Pérez leva a tradição a novos territórios com uma linguagem vibrante e sofisticada. Em mais de duas décadas de carreira\, construiu um percurso marcado pela fusão entre música popular cubana\, flamenco e jazz\, conquistando reconhecimento internacional. \nMulti-instrumentista\, cantor e compositor\, colaborou com grandes nomes como Paco de Lucía\, Irakere (Chucho Valdés) e Isaac Delgado\, além de produzir para artistas como Estrella Morente\, Celia Cruz e Miguel Poveda. Seu mais recente álbum\, “Bingo!” (2025)\, foi indicado ao Latin Grammy e ao Grammy Awards. \nEm palco\, Alain Pérez destaca-se pela energia\, virtuosismo e carisma\, oferecendo um concerto envolvente que celebra a riqueza e a constante reinvenção da música cubana.
URL:https://lisboaaovivo.com/evento/alain-perez-y-la-orquesta/
LOCATION:LAV
CATEGORIES:Concertos
ATTACH;FMTTYPE=image/jpeg:https://lisboaaovivo.com/wp-content/uploads/2026/04/cartaz152216_grande.jpg
END:VEVENT
BEGIN:VEVENT
DTSTART;TZID=UTC:20260718T210000
DTEND;TZID=UTC:20260718T233000
DTSTAMP:20260425T174748
CREATED:20260214T185129Z
LAST-MODIFIED:20260214T185449Z
UID:4963-1784408400-1784417400@lisboaaovivo.com
SUMMARY:MOLOTOV
DESCRIPTION:🤘🎸FRIJOLEUROS TOUR 2026🎸🤘 \nMOLOTOV chegam a Lisboa\, pela Doiis Entertainment. \n  \n  \nAbertura de Portas: 20h00 \nInício: 21h00 \n 
URL:https://lisboaaovivo.com/evento/molotov/
LOCATION:LAV – Sala 1\, Av. Marechal Gomes da Costa\, 29B1\, Lisbon\, Lisboa\, 1800-255\, Portugal
ATTACH;FMTTYPE=image/jpeg:https://lisboaaovivo.com/wp-content/uploads/2026/02/632348153_18078914492607875_7688165079043414626_n.jpg
END:VEVENT
END:VCALENDAR