BEGIN:VCALENDAR
VERSION:2.0
PRODID:-//LAV - ECPv6.15.11//NONSGML v1.0//EN
CALSCALE:GREGORIAN
METHOD:PUBLISH
X-WR-CALNAME:LAV
X-ORIGINAL-URL:https://lisboaaovivo.com
X-WR-CALDESC:Eventos para LAV
REFRESH-INTERVAL;VALUE=DURATION:PT1H
X-Robots-Tag:noindex
X-PUBLISHED-TTL:PT1H
BEGIN:VTIMEZONE
TZID:UTC
BEGIN:STANDARD
TZOFFSETFROM:+0000
TZOFFSETTO:+0000
TZNAME:UTC
DTSTART:20250101T000000
END:STANDARD
END:VTIMEZONE
BEGIN:VEVENT
DTSTART;TZID=UTC:20260228T080000
DTEND;TZID=UTC:20260228T170000
DTSTAMP:20260425T133822
CREATED:20260225T170411Z
LAST-MODIFIED:20260225T170411Z
UID:4997-1772265600-1772298000@lisboaaovivo.com
SUMMARY:FAVELÔN
DESCRIPTION:FAVELÔN IS FINALLY OUT! 🇧🇷 \nGet your squad ready because on February 28\, the ultimate Brazilian night is taking over Lisbon! 🔥 From 11:30PM to 5:00AM\, it’s full-on party mode! \nDon’t miss the night where we turn Lisbon into Brazil for a few hours. Will you join us to feel the vibe?
URL:https://lisboaaovivo.com/evento/favelon/
LOCATION:LAV – Sala 1\, Av. Marechal Gomes da Costa\, 29B1\, Lisbon\, Lisboa\, 1800-255\, Portugal
CATEGORIES:Eventos
ATTACH;FMTTYPE=image/jpeg:https://lisboaaovivo.com/wp-content/uploads/2026/02/631004213_18531916279067986_7616208758842819441_n.jpg
END:VEVENT
END:VCALENDAR