BEGIN:VCALENDAR
VERSION:2.0
PRODID:-//LAV - ECPv6.15.11//NONSGML v1.0//EN
CALSCALE:GREGORIAN
METHOD:PUBLISH
X-WR-CALNAME:LAV
X-ORIGINAL-URL:https://lisboaaovivo.com
X-WR-CALDESC:Eventos para LAV
REFRESH-INTERVAL;VALUE=DURATION:PT1H
X-Robots-Tag:noindex
X-PUBLISHED-TTL:PT1H
BEGIN:VTIMEZONE
TZID:UTC
BEGIN:STANDARD
TZOFFSETFROM:+0000
TZOFFSETTO:+0000
TZNAME:UTC
DTSTART:20250101T000000
END:STANDARD
END:VTIMEZONE
BEGIN:VEVENT
DTSTART;TZID=UTC:20260131T210000
DTEND;TZID=UTC:20260131T233000
DTSTAMP:20260425T151135
CREATED:20251217T173700Z
LAST-MODIFIED:20260118T235224Z
UID:4818-1769893200-1769902200@lisboaaovivo.com
SUMMARY:Piseiro Apaixonado
DESCRIPTION:NOITE DO PISEIRO tá chegando com tudo no LAV – LISBOA AO VIVO! \nSábado dia 31 de janeiro a partir das 21h.
URL:https://lisboaaovivo.com/evento/piseiro-apaixonado/
LOCATION:LAV – Sala 2\, Av. Marechal Gomes da Costa\, 29B1\, Lisbon\, Lisboa\, 1800-255\, Portugal
CATEGORIES:Eventos
ATTACH;FMTTYPE=image/jpeg:https://lisboaaovivo.com/wp-content/uploads/2025/12/Cartaz-Piseiro.jpeg
END:VEVENT
END:VCALENDAR